BEGIN:VCALENDAR
VERSION:2.0
PRODID:-//A.C. Falla Plaça Dos de Maig i Voltants de Paterna - ECPv6.15.20//NONSGML v1.0//EN
CALSCALE:GREGORIAN
METHOD:PUBLISH
X-WR-CALNAME:A.C. Falla Plaça Dos de Maig i Voltants de Paterna
X-ORIGINAL-URL:https://falladosdemaig.com
X-WR-CALDESC:Eventos para A.C. Falla Plaça Dos de Maig i Voltants de Paterna
REFRESH-INTERVAL;VALUE=DURATION:PT1H
X-Robots-Tag:noindex
X-PUBLISHED-TTL:PT1H
BEGIN:VTIMEZONE
TZID:Europe/Madrid
BEGIN:DAYLIGHT
TZOFFSETFROM:+0100
TZOFFSETTO:+0200
TZNAME:CEST
DTSTART:20230326T010000
END:DAYLIGHT
BEGIN:STANDARD
TZOFFSETFROM:+0200
TZOFFSETTO:+0100
TZNAME:CET
DTSTART:20231029T010000
END:STANDARD
BEGIN:DAYLIGHT
TZOFFSETFROM:+0100
TZOFFSETTO:+0200
TZNAME:CEST
DTSTART:20240331T010000
END:DAYLIGHT
BEGIN:STANDARD
TZOFFSETFROM:+0200
TZOFFSETTO:+0100
TZNAME:CET
DTSTART:20241027T010000
END:STANDARD
BEGIN:DAYLIGHT
TZOFFSETFROM:+0100
TZOFFSETTO:+0200
TZNAME:CEST
DTSTART:20250330T010000
END:DAYLIGHT
BEGIN:STANDARD
TZOFFSETFROM:+0200
TZOFFSETTO:+0100
TZNAME:CET
DTSTART:20251026T010000
END:STANDARD
BEGIN:DAYLIGHT
TZOFFSETFROM:+0100
TZOFFSETTO:+0200
TZNAME:CEST
DTSTART:20260329T010000
END:DAYLIGHT
BEGIN:STANDARD
TZOFFSETFROM:+0200
TZOFFSETTO:+0100
TZNAME:CET
DTSTART:20261025T010000
END:STANDARD
END:VTIMEZONE
BEGIN:VEVENT
DTSTART;VALUE=DATE:20250912
DTEND;VALUE=DATE:20250914
DTSTAMP:20260421T020359
CREATED:20240902T164343Z
LAST-MODIFIED:20250523T112311Z
UID:2334-1757635200-1757807999@falladosdemaig.com
SUMMARY:GERMANOR 2025
DESCRIPTION:GERMANOR FALLERA organitzada per la Junta Local Fallera de Paterna \n11:00 Jocs de taula \n11:00 Jocs infantils i de taula \n14:30 dinar \n16:30 Tardeo –  Karaoke interactiu \n17:00 Jocs Infantils \n21:30 Sopar \n23:00 Discomovil de temàtica Hippie \n  \n 
URL:https://falladosdemaig.com/event/germanor-2024-2
LOCATION:Parc Central\, 39.50961549021725\, -0.44582190493077434\, PATERNA\, VALENCIA\, 46980\, España
CATEGORIES:Altres actes festius i fallers
END:VEVENT
BEGIN:VEVENT
DTSTART;TZID=Europe/Madrid:20250829T190000
DTEND;TZID=Europe/Madrid:20250829T190000
DTSTAMP:20260421T020359
CREATED:20250523T112142Z
LAST-MODIFIED:20250727T105952Z
UID:2724-1756494000-1756494000@falladosdemaig.com
SUMMARY:Triduo
DESCRIPTION:Triduo \nPaso del Cristo por el casal de la falla
URL:https://falladosdemaig.com/event/triduo
LOCATION:Casal de la Falla.\, Carrer Mariana Colas\, 28\, Paterna\, Valencia\, 46980\, España
CATEGORIES:Altres actes festius i fallers
END:VEVENT
BEGIN:VEVENT
DTSTART;VALUE=DATE:20250726
DTEND;VALUE=DATE:20250727
DTSTAMP:20260421T020359
CREATED:20240704T204348Z
LAST-MODIFIED:20250523T111753Z
UID:2316-1753488000-1753574399@falladosdemaig.com
SUMMARY:Festa d'Estiu
DESCRIPTION:  \n Fiesta del Verano.\nDesde las 11h los infantiles disfrutarán de juegos de agua y otras sorpresas\, comida para ellos en el casal y al terminar\, tendrán una sesión de cine de verano.\nPor la mañana también ofreceremos un quinto y tapa para todos aquellos que quieran acudir. \nY a partir de las 20h\, llega el turno para la comisión mayor con una pre-party amenizada con música y servicio de barra\, la cena con menús de burger o Hot Dog (previa reserva) y para rematar fiesta con DJ en nuestro casal.\nUna forma inmejorable de «cerrar por vacaciones» hasta septiembre!\nOs esperamos!😊 \n 
URL:https://falladosdemaig.com/event/festa-destiu
LOCATION:Casal de la Falla.\, Carrer Mariana Colas\, 28\, Paterna\, Valencia\, 46980\, España
CATEGORIES:Actes propis de la falla
ORGANIZER;CN="Falla Pla%C3%A7a Dos de Maig":MAILTO:relacionspubliques@falladosdemaig.com
END:VEVENT
BEGIN:VEVENT
DTSTART;TZID=Europe/Madrid:20250719T190000
DTEND;TZID=Europe/Madrid:20250719T220000
DTSTAMP:20260421T020359
CREATED:20240622T105140Z
LAST-MODIFIED:20250630T092325Z
UID:2308-1752951600-1752962400@falladosdemaig.com
SUMMARY:Demaná de la Fallera Major Infantil 2026
DESCRIPTION:Acte de Demaná de la Fallera Major Infantil 2026
URL:https://falladosdemaig.com/event/demana-de-la-fallera-major-infantil-2025
LOCATION:Casal de la Falla.\, Carrer Mariana Colas\, 28\, Paterna\, Valencia\, 46980\, España
CATEGORIES:Actes propis de la falla
END:VEVENT
BEGIN:VEVENT
DTSTART;TZID=Europe/Madrid:20250715T213000
DTEND;TZID=Europe/Madrid:20250715T233000
DTSTAMP:20260421T020359
CREATED:20250702T094109Z
LAST-MODIFIED:20250702T110717Z
UID:2754-1752615000-1752622200@falladosdemaig.com
SUMMARY:Actuació "Champions de Play Back's"
DESCRIPTION:Actuación del Grupo Mayor de Interpretación Musical de la falla en la «Campions de Play Back’s» que se celebrara en los Jardines del Palau de la Musica de Valencia\, y que dará comienzo a las 21:30h.\nEsperamos vuestra asistencia.
URL:https://falladosdemaig.com/event/actuacio-champions-de-play-backs
LOCATION:Jardines del Palau de la Musica\, El Llano del Real\, Valencia\, Valencia\, 46023\, Spain
CATEGORIES:Altres actes festius i fallers
END:VEVENT
BEGIN:VEVENT
DTSTART;TZID=Europe/Madrid:20250712T193000
DTEND;TZID=Europe/Madrid:20250712T230000
DTSTAMP:20260421T020359
CREATED:20240622T105003Z
LAST-MODIFIED:20250630T090551Z
UID:2304-1752348600-1752361200@falladosdemaig.com
SUMMARY:Demaná de la Fallera Major 2026
DESCRIPTION:Acte de Demaná de la Fallera Major per a les falles de 2026
URL:https://falladosdemaig.com/event/demana-de-la-fallera-major-2025
LOCATION:Casal de la Falla.\, Carrer Mariana Colas\, 28\, Paterna\, Valencia\, 46980\, España
CATEGORIES:Actes propis de la falla
END:VEVENT
BEGIN:VEVENT
DTSTART;TZID=Europe/Madrid:20250705T210000
DTEND;TZID=Europe/Madrid:20250705T230000
DTSTAMP:20260421T020359
CREATED:20250523T103458Z
LAST-MODIFIED:20250523T103458Z
UID:2721-1751749200-1751756400@falladosdemaig.com
SUMMARY:Elección Falleras Mayores de Paterna 2026
DESCRIPTION:Elección de las que serán las Falleras Mayores de Paterna para el año 2026
URL:https://falladosdemaig.com/event/eleccion-falleras-mayores-de-paterna-2026
LOCATION:Pabellon Polideportivo Municipal Paterna\, Urb. Norte\, 23\, 46988 Paterna\, Valencia\, Paterna\, Valencia\, 46980\, España
CATEGORIES:Altres actes festius i fallers
END:VEVENT
BEGIN:VEVENT
DTSTART;TZID=Europe/Madrid:20250621T200000
DTEND;TZID=Europe/Madrid:20250621T233000
DTSTAMP:20260421T020359
CREATED:20240527T171449Z
LAST-MODIFIED:20250523T102259Z
UID:2282-1750536000-1750548600@falladosdemaig.com
SUMMARY:Comiat Falleres Majors i Presidents 2025
DESCRIPTION:Acte de comiat dels nostres representants de les passades falles  2025 \n  \n  \n                                                                                                                                                                                                   
URL:https://falladosdemaig.com/event/despedida-falleres-majors-i-presidents-2024
LOCATION:Casal de la Falla.\, Carrer Mariana Colas\, 28\, Paterna\, Valencia\, 46980\, España
CATEGORIES:Actes propis de la falla
ORGANIZER;CN="Falla Pla%C3%A7a Dos de Maig":MAILTO:relacionspubliques@falladosdemaig.com
END:VEVENT
BEGIN:VEVENT
DTSTART;TZID=Europe/Madrid:20250613T220000
DTEND;TZID=Europe/Madrid:20250613T230000
DTSTAMP:20260421T020359
CREATED:20240124T163500Z
LAST-MODIFIED:20250531T154324Z
UID:1534-1749852000-1749855600@falladosdemaig.com
SUMMARY:Asamblea General Extraordinaria
DESCRIPTION:En cumplimiento con lo dispuesto en el artículo 12 de los Estatutos de la \nAsociación\, a petición\, en fecha 30 de mayo 2025\, de un número de socios \nsuficiente\, por la presente se convoca ASAMBLEA GENERAL \nEXTRAORDINARIA\, que se celebrará en nuestro Casal Fallero\, el próximo \nviernes 13 de junio de 2025\, a las 22 horas en primera convocatoria y \n22.15 horas en segunda\, con el siguiente orden del día: \n1. Denuncia del artículo 10.2 del Reglamento según la propuesta adjunta. Debate y\, en su caso\, modificación.
URL:https://falladosdemaig.com/event/asamblea-general
LOCATION:Casal de la Falla.\, Carrer Mariana Colas\, 28\, Paterna\, Valencia\, 46980\, España
CATEGORIES:Actes propis de la falla
ORGANIZER;CN="Falla Pla%C3%A7a Dos de Maig":MAILTO:relacionspubliques@falladosdemaig.com
END:VEVENT
BEGIN:VEVENT
DTSTART;TZID=Europe/Madrid:20250601T180000
DTEND;TZID=Europe/Madrid:20250601T220000
DTSTAMP:20260421T020359
CREATED:20250523T101748Z
LAST-MODIFIED:20250523T160421Z
UID:2716-1748800800-1748815200@falladosdemaig.com
SUMMARY:HOMENAJE JLF REPRESENTANTES 2025
DESCRIPTION:Despedida y homenaje de la Junta Local Fallera de Paterna a los Representantes de las distintas comisiones falleras de 2025
URL:https://falladosdemaig.com/event/homenaje-jlf-representantes-2025
LOCATION:Pabellon Polideportivo Municipal Paterna\, Urb. Norte\, 23\, 46988 Paterna\, Valencia\, Paterna\, Valencia\, 46980\, España
CATEGORIES:Altres actes festius i fallers
END:VEVENT
BEGIN:VEVENT
DTSTART;TZID=Europe/Madrid:20250524T210000
DTEND;TZID=Europe/Madrid:20250524T230000
DTSTAMP:20260421T020359
CREATED:20250523T101148Z
LAST-MODIFIED:20250523T101148Z
UID:2713-1748120400-1748127600@falladosdemaig.com
SUMMARY:Cena Tematica
DESCRIPTION: PRIMERA CENA DEL AÑO \nTemática 🌈🧡🩵💚🎨🌻🌼🌸 COLOR PARTY 🌈🧡🩵💚🎨🌻🌼🌸 Elije tu color y diviértete!!!!!!!\nLos colores nos conducirán a una actividad divertida que haremos después de cenar. \n                                                                                                                                                                                              Pero tranquil@s no tienes que hacer nada todavía y tu color lo seleccionarás ese dia😁
URL:https://falladosdemaig.com/event/cena-tematica
LOCATION:Casal de la Falla.\, Carrer Mariana Colas\, 28\, Paterna\, Valencia\, 46980\, España
CATEGORIES:Actes propis de la falla
ORGANIZER;CN="Falla Pla%C3%A7a Dos de Maig":MAILTO:relacionspubliques@falladosdemaig.com
END:VEVENT
BEGIN:VEVENT
DTSTART;TZID=Europe/Madrid:20250314T223000
DTEND;TZID=Europe/Madrid:20250314T223000
DTSTAMP:20260421T020359
CREATED:20250123T163008Z
LAST-MODIFIED:20250123T163008Z
UID:2440-1741991400-1741991400@falladosdemaig.com
SUMMARY:Lliurament de Recompenses
DESCRIPTION:Lliuramente de recompenses per a la comissió major
URL:https://falladosdemaig.com/event/lliurament-de-recompenses
LOCATION:Casal de la Falla.\, Carrer Mariana Colas\, 28\, Paterna\, Valencia\, 46980\, España
CATEGORIES:Altres actes festius i fallers
END:VEVENT
BEGIN:VEVENT
DTSTART;TZID=Europe/Madrid:20250309T080000
DTEND;TZID=Europe/Madrid:20250309T100000
DTSTAMP:20260421T020359
CREATED:20240214T095948Z
LAST-MODIFIED:20250123T162642Z
UID:1581-1741507200-1741514400@falladosdemaig.com
SUMMARY:MACRO DESPERTA
DESCRIPTION:Macrodespertà per l’itinerari habitual\, \ndes del monument a les Falles (Gasolinera \n“3 Caminos”) fi ns a la Plaça Enginyer \nCastells. 08:00 h. \nEn acabar desdejuni en la seu de JLFP.
URL:https://falladosdemaig.com/event/macro-desperta
LOCATION:Ayuntamiento de Paterna\, Plaça Enginyer Castells\, 1\, Paterna\, Valencia\, 46980\, España
END:VEVENT
BEGIN:VEVENT
DTSTART;TZID=Europe/Madrid:20250307T213000
DTEND;TZID=Europe/Madrid:20250307T230000
DTSTAMP:20260421T020359
CREATED:20240214T095027Z
LAST-MODIFIED:20250123T114930Z
UID:1574-1741383000-1741388400@falladosdemaig.com
SUMMARY:Sopar d'aixellet
DESCRIPTION:SOPAR D’AISELLET \n \nSopar per tota la Comisión Major
URL:https://falladosdemaig.com/event/sopar-daixellet
LOCATION:Casal de la Falla.\, Carrer Mariana Colas\, 28\, Paterna\, Valencia\, 46980\, España
CATEGORIES:Actes propis de la falla
ORGANIZER;CN="Falla Pla%C3%A7a Dos de Maig":MAILTO:relacionspubliques@falladosdemaig.com
END:VEVENT
BEGIN:VEVENT
DTSTART;TZID=Europe/Madrid:20250222T143000
DTEND;TZID=Europe/Madrid:20250222T143000
DTSTAMP:20260421T020359
CREATED:20240301T164306Z
LAST-MODIFIED:20250123T113332Z
UID:1625-1740234600-1740234600@falladosdemaig.com
SUMMARY:Dinar d'aisellet per la Comissió Major
DESCRIPTION:Dinar d’aixenet per a la Comissió Major
URL:https://falladosdemaig.com/event/dinar-daisellet-per-la-comissio-major-2
LOCATION:Casal de la Falla.\, Carrer Mariana Colas\, 28\, Paterna\, Valencia\, 46980\, España
CATEGORIES:Actes propis de la falla
ORGANIZER;CN="Falla Pla%C3%A7a Dos de Maig":MAILTO:relacionspubliques@falladosdemaig.com
END:VEVENT
BEGIN:VEVENT
DTSTART;TZID=Europe/Madrid:20241026T210000
DTEND;TZID=Europe/Madrid:20241026T230000
DTSTAMP:20260421T020359
CREATED:20241018T112441Z
LAST-MODIFIED:20241018T163137Z
UID:2374-1729976400-1729983600@falladosdemaig.com
SUMMARY:Concurso de Play Black Benetuser
DESCRIPTION:Concurso de Play Back infantil en Benetuser.
URL:https://falladosdemaig.com/event/concurso-de-play-black-benetuser
LOCATION:Valencia
CATEGORIES:Altres actes festius i fallers
END:VEVENT
BEGIN:VEVENT
DTSTART;TZID=Europe/Madrid:20241019T210000
DTEND;TZID=Europe/Madrid:20241019T230000
DTSTAMP:20260421T020359
CREATED:20241018T163225Z
LAST-MODIFIED:20241018T163225Z
UID:2378-1729371600-1729378800@falladosdemaig.com
SUMMARY:Concurso de Play Black Benetuser
DESCRIPTION:Concurso de Play Back infantil en Paiporta.
URL:https://falladosdemaig.com/event/concurso-de-play-black-benetuser-2
LOCATION:Valencia
CATEGORIES:Altres actes festius i fallers
END:VEVENT
BEGIN:VEVENT
DTSTART;TZID=Europe/Madrid:20240929T100000
DTEND;TZID=Europe/Madrid:20240929T140000
DTSTAMP:20260421T020359
CREATED:20240911T084753Z
LAST-MODIFIED:20240911T084757Z
UID:2341-1727604000-1727618400@falladosdemaig.com
SUMMARY:Jocs de Taula de JLF
DESCRIPTION:Campionat de jocs de taula organitzat per Junta Local Fallera de Paterna \nDOMINÓ Y RUMMIKUB
URL:https://falladosdemaig.com/event/jocs-de-taula-de-jlf
LOCATION:Casal de la Falla.\, Carrer Mariana Colas\, 28\, Paterna\, Valencia\, 46980\, España
END:VEVENT
BEGIN:VEVENT
DTSTART;VALUE=DATE:20240906
DTEND;VALUE=DATE:20240907
DTSTAMP:20260421T020359
CREATED:20240902T164121Z
LAST-MODIFIED:20240903T151131Z
UID:2331-1725580800-1725667199@falladosdemaig.com
SUMMARY:GERMANOR 2024
DESCRIPTION:GERMANOR FALLERA organitzada per la Junta Local Fallera de Paterna \n20:30 Mini Crida a la Cova Gran\, en finalizar desfilada fins al Parc Central \n21:30 Sopar \n23:00 Discomóvil \n 
URL:https://falladosdemaig.com/event/germanor-2024
LOCATION:Parc Central\, 39.50961549021725\, -0.44582190493077434\, PATERNA\, VALENCIA\, 46980\, España
CATEGORIES:Altres actes festius i fallers
END:VEVENT
BEGIN:VEVENT
DTSTART;TZID=Europe/Madrid:20240503T180000
DTEND;TZID=Europe/Madrid:20240503T200000
DTSTAMP:20260421T020359
CREATED:20240425T224447Z
LAST-MODIFIED:20240425T224451Z
UID:2274-1714759200-1714766400@falladosdemaig.com
SUMMARY:BERENAR DIA DE LA MARE
DESCRIPTION:Els més xicotets de la comissió seran els encarregats d’inaugurar aquest nou exercici faller amb un berenar per a celebrar el dia de la mare. Els infantils del Dos de Maig podran gaudir d’una vesprada molt especial al costat de les seues mares. \n 
URL:https://falladosdemaig.com/event/berenar-dia-de-la-mare
LOCATION:Casal de la Falla.\, Carrer Mariana Colas\, 28\, Paterna\, Valencia\, 46980\, España
CATEGORIES:Actes propis de la falla
ORGANIZER;CN="Falla Pla%C3%A7a Dos de Maig":MAILTO:relacionspubliques@falladosdemaig.com
END:VEVENT
BEGIN:VEVENT
DTSTART;TZID=Europe/Madrid:20240319T110000
DTEND;TZID=Europe/Madrid:20240319T170000
DTSTAMP:20260421T020359
CREATED:20240302T110341Z
LAST-MODIFIED:20240302T110341Z
UID:1669-1710846000-1710867600@falladosdemaig.com
SUMMARY:Parc Infantil
DESCRIPTION:Parc infantil per a tota la Comissió Infantil
URL:https://falladosdemaig.com/event/parc-infantil
LOCATION:Casal de la Falla.\, Carrer Mariana Colas\, 28\, Paterna\, Valencia\, 46980\, España
CATEGORIES:Actes propis de la falla
ORGANIZER;CN="Falla Pla%C3%A7a Dos de Maig":MAILTO:relacionspubliques@falladosdemaig.com
END:VEVENT
BEGIN:VEVENT
DTSTART;TZID=Europe/Madrid:20240317T003000
DTEND;TZID=Europe/Madrid:20240317T170000
DTSTAMP:20260421T020359
CREATED:20240301T172321Z
LAST-MODIFIED:20240302T135545Z
UID:1648-1710635400-1710694800@falladosdemaig.com
SUMMARY:Animació i Discomóbil
DESCRIPTION:Animació i Discomóbil a càrrec de DJ Rober
URL:https://falladosdemaig.com/event/animacio-i-discomobil
LOCATION:Casal de la Falla.\, Carrer Mariana Colas\, 28\, Paterna\, Valencia\, 46980\, España
CATEGORIES:Actes propis de la falla
END:VEVENT
END:VCALENDAR