BEGIN:VCALENDAR
VERSION:2.0
PRODID:-//A.C. Falla Plaça Dos de Maig i Voltants de Paterna - ECPv6.15.20//NONSGML v1.0//EN
CALSCALE:GREGORIAN
METHOD:PUBLISH
X-ORIGINAL-URL:https://falladosdemaig.com
X-WR-CALDESC:Eventos para A.C. Falla Plaça Dos de Maig i Voltants de Paterna
REFRESH-INTERVAL;VALUE=DURATION:PT1H
X-Robots-Tag:noindex
X-PUBLISHED-TTL:PT1H
BEGIN:VTIMEZONE
TZID:Europe/Madrid
BEGIN:DAYLIGHT
TZOFFSETFROM:+0100
TZOFFSETTO:+0200
TZNAME:CEST
DTSTART:20250330T010000
END:DAYLIGHT
BEGIN:STANDARD
TZOFFSETFROM:+0200
TZOFFSETTO:+0100
TZNAME:CET
DTSTART:20251026T010000
END:STANDARD
BEGIN:DAYLIGHT
TZOFFSETFROM:+0100
TZOFFSETTO:+0200
TZNAME:CEST
DTSTART:20260329T010000
END:DAYLIGHT
BEGIN:STANDARD
TZOFFSETFROM:+0200
TZOFFSETTO:+0100
TZNAME:CET
DTSTART:20261025T010000
END:STANDARD
BEGIN:DAYLIGHT
TZOFFSETFROM:+0100
TZOFFSETTO:+0200
TZNAME:CEST
DTSTART:20270328T010000
END:DAYLIGHT
BEGIN:STANDARD
TZOFFSETFROM:+0200
TZOFFSETTO:+0100
TZNAME:CET
DTSTART:20271031T010000
END:STANDARD
END:VTIMEZONE
BEGIN:VEVENT
DTSTART;TZID=Europe/Madrid:20260316T110000
DTEND;TZID=Europe/Madrid:20260316T130000
DTSTAMP:20260420T183225
CREATED:20250307T102936Z
LAST-MODIFIED:20260219T230233Z
UID:2636-1773658800-1773666000@falladosdemaig.com
SUMMARY:EXCURSIÓ INFANTILS
DESCRIPTION:Excursió dels infantil amb ruta per a veure les Falles de Paterna
URL:https://falladosdemaig.com/event/excursio-infantils
LOCATION:Casal de la Falla.\, Carrer Mariana Colas\, 28\, Paterna\, Valencia\, 46980\, España
ORGANIZER;CN="Falla Pla%C3%A7a Dos de Maig":MAILTO:relacionspubliques@falladosdemaig.com
END:VEVENT
BEGIN:VEVENT
DTSTART;TZID=Europe/Madrid:20260316T110000
DTEND;TZID=Europe/Madrid:20260316T130000
DTSTAMP:20260420T183225
CREATED:20240302T110249Z
LAST-MODIFIED:20260219T230142Z
UID:1667-1773658800-1773666000@falladosdemaig.com
SUMMARY:Esmorçar per la comissió
DESCRIPTION:Esmorçar per toda la comissiò
URL:https://falladosdemaig.com/event/esmorcar-per-la-comissio-4
LOCATION:Casal de la Falla.\, Carrer Mariana Colas\, 28\, Paterna\, Valencia\, 46980\, España
CATEGORIES:Actes propis de la falla
ORGANIZER;CN="Falla Pla%C3%A7a Dos de Maig":MAILTO:relacionspubliques@falladosdemaig.com
END:VEVENT
BEGIN:VEVENT
DTSTART;TZID=Europe/Madrid:20260315T233000
DTEND;TZID=Europe/Madrid:20260315T233000
DTSTAMP:20260420T183225
CREATED:20240223T095034Z
LAST-MODIFIED:20260219T220336Z
UID:1603-1773617400-1773617400@falladosdemaig.com
SUMMARY:Plantà Major
DESCRIPTION:Plantà del monument major 2024
URL:https://falladosdemaig.com/event/planta-major
LOCATION:Casal de la Falla.\, Carrer Mariana Colas\, 28\, Paterna\, Valencia\, 46980\, España
CATEGORIES:Actes propis de la falla
ORGANIZER;CN="Falla Pla%C3%A7a Dos de Maig":MAILTO:relacionspubliques@falladosdemaig.com
END:VEVENT
BEGIN:VEVENT
DTSTART;TZID=Europe/Madrid:20260315T223000
DTEND;TZID=Europe/Madrid:20260315T223000
DTSTAMP:20260420T183225
CREATED:20240223T094837Z
LAST-MODIFIED:20260219T220232Z
UID:1599-1773613800-1773613800@falladosdemaig.com
SUMMARY:Sopar de la Plantà Major
DESCRIPTION:Sopar de la Plantà Major 22:30 \nA continuació actuació i DJ. 
URL:https://falladosdemaig.com/event/sopar-de-la-planta-major
LOCATION:Casal de la Falla.\, Carrer Mariana Colas\, 28\, Paterna\, Valencia\, 46980\, España
CATEGORIES:Actes propis de la falla
ORGANIZER;CN="Falla Pla%C3%A7a Dos de Maig":MAILTO:relacionspubliques@falladosdemaig.com
END:VEVENT
BEGIN:VEVENT
DTSTART;TZID=Europe/Madrid:20260315T210000
DTEND;TZID=Europe/Madrid:20260315T210000
DTSTAMP:20260420T183225
CREATED:20240223T094931Z
LAST-MODIFIED:20260219T220052Z
UID:1601-1773608400-1773608400@falladosdemaig.com
SUMMARY:Plantà Infantil
DESCRIPTION:Plantà de la falla infantil
URL:https://falladosdemaig.com/event/planta-infantil
LOCATION:Casal de la Falla.\, Carrer Mariana Colas\, 28\, Paterna\, Valencia\, 46980\, España
CATEGORIES:Actes propis de la falla
ORGANIZER;CN="Falla Pla%C3%A7a Dos de Maig":MAILTO:relacionspubliques@falladosdemaig.com
END:VEVENT
BEGIN:VEVENT
DTSTART;TZID=Europe/Madrid:20260315T203000
DTEND;TZID=Europe/Madrid:20260315T203000
DTSTAMP:20260420T183225
CREATED:20240223T094738Z
LAST-MODIFIED:20260219T220008Z
UID:1597-1773606600-1773606600@falladosdemaig.com
SUMMARY:Sopar de la Planta Infantil
DESCRIPTION:Sopar de la Plata Infantil
URL:https://falladosdemaig.com/event/sopar-de-la-planta-infantil
LOCATION:Casal de la Falla.\, Carrer Mariana Colas\, 28\, Paterna\, Valencia\, 46980\, España
CATEGORIES:Actes propis de la falla
ORGANIZER;CN="Falla Pla%C3%A7a Dos de Maig":MAILTO:relacionspubliques@falladosdemaig.com
END:VEVENT
BEGIN:VEVENT
DTSTART;TZID=Europe/Madrid:20260315T143000
DTEND;TZID=Europe/Madrid:20260315T143000
DTSTAMP:20260420T183225
CREATED:20250123T163339Z
LAST-MODIFIED:20260219T215917Z
UID:2445-1773585000-1773585000@falladosdemaig.com
SUMMARY:Dinar d'aisellet per la Comissió Major
DESCRIPTION:Dinar d’aixenet per a la Comissió Major
URL:https://falladosdemaig.com/event/dinar-daisellet-per-la-comissio-major-3
LOCATION:Casal de la Falla.\, Carrer Mariana Colas\, 28\, Paterna\, Valencia\, 46980\, España
CATEGORIES:Actes propis de la falla
ORGANIZER;CN="Falla Pla%C3%A7a Dos de Maig":MAILTO:relacionspubliques@falladosdemaig.com
END:VEVENT
BEGIN:VEVENT
DTSTART;TZID=Europe/Madrid:20260315T140000
DTEND;TZID=Europe/Madrid:20260315T170000
DTSTAMP:20260420T183225
CREATED:20240224T115917Z
LAST-MODIFIED:20260219T215548Z
UID:1612-1773583200-1773594000@falladosdemaig.com
SUMMARY:Mascletà al Parc Central
DESCRIPTION:Mascletà al Parc Central
URL:https://falladosdemaig.com/event/mascleta-al-parc-central
LOCATION:Parc Central\, 39.50961549021725\, -0.44582190493077434\, PATERNA\, VALENCIA\, 46980\, España
CATEGORIES:Altres actes festius i fallers
END:VEVENT
BEGIN:VEVENT
DTSTART;TZID=Europe/Madrid:20260315T133000
DTEND;TZID=Europe/Madrid:20260315T143000
DTSTAMP:20260420T183225
CREATED:20250123T163257Z
LAST-MODIFIED:20260219T215641Z
UID:2443-1773581400-1773585000@falladosdemaig.com
SUMMARY:Dinar d'aisellet per la Comissió Infantil
DESCRIPTION:Dinar d’aixenet per a la Comissió Infantil.
URL:https://falladosdemaig.com/event/dinar-daisellet-per-la-comissio-infantil-3
LOCATION:Casal de la Falla.\, Carrer Mariana Colas\, 28\, Paterna\, Valencia\, 46980\, España
CATEGORIES:Actes propis de la falla
ORGANIZER;CN="Falla Pla%C3%A7a Dos de Maig":MAILTO:relacionspubliques@falladosdemaig.com
END:VEVENT
BEGIN:VEVENT
DTSTART;TZID=Europe/Madrid:20260315T103000
DTEND;TZID=Europe/Madrid:20260315T113000
DTSTAMP:20260420T183225
CREATED:20240214T100313Z
LAST-MODIFIED:20260219T215440Z
UID:1588-1773570600-1773574200@falladosdemaig.com
SUMMARY:Esmorçar de anunciants i Fallers d’Honor
DESCRIPTION:Esmorçar de anunciants i Fallers d’Honor
URL:https://falladosdemaig.com/event/esmorcar-de-anunciants-i-fallers-dhonor
LOCATION:Casal de la Falla.\, Carrer Mariana Colas\, 28\, Paterna\, Valencia\, 46980\, España
ORGANIZER;CN="Falla Pla%C3%A7a Dos de Maig":MAILTO:relacionspubliques@falladosdemaig.com
END:VEVENT
BEGIN:VEVENT
DTSTART;TZID=Europe/Madrid:20260314T230000
DTEND;TZID=Europe/Madrid:20260314T233000
DTSTAMP:20260420T183225
CREATED:20260223T220436Z
LAST-MODIFIED:20260223T220457Z
UID:2853-1773529200-1773531000@falladosdemaig.com
SUMMARY:3ª Nit d'Albaes
DESCRIPTION:3a. Nit d’albaes. Aquesta nit tindrem l’honor de rebre al nostre casal a Junta Local fallera que amb la “NIT D’ALBAES” arriben a honrar a les nostres FFMM i Presidents. \nPorta de l’Ajuntament de Paterna. 19:30 h.
URL:https://falladosdemaig.com/event/3a-nit-dalbaes
LOCATION:Valencia
END:VEVENT
BEGIN:VEVENT
DTSTART;TZID=Europe/Madrid:20260314T213000
DTEND;TZID=Europe/Madrid:20260314T230000
DTSTAMP:20260420T183225
CREATED:20250123T162812Z
LAST-MODIFIED:20260223T220219Z
UID:2438-1773523800-1773529200@falladosdemaig.com
SUMMARY:Sopar d'aixellet
DESCRIPTION:SOPAR D’AISELLET \n \nSopar per tota la Comisión Major
URL:https://falladosdemaig.com/event/sopar-daixellet-3
LOCATION:Casal de la Falla.\, Carrer Mariana Colas\, 28\, Paterna\, Valencia\, 46980\, España
CATEGORIES:Actes propis de la falla
ORGANIZER;CN="Falla Pla%C3%A7a Dos de Maig":MAILTO:relacionspubliques@falladosdemaig.com
END:VEVENT
BEGIN:VEVENT
DTSTART;TZID=Europe/Madrid:20260313T233000
DTEND;TZID=Europe/Madrid:20260313T233000
DTSTAMP:20260420T183225
CREATED:20240214T100157Z
LAST-MODIFIED:20260223T215837Z
UID:1586-1773444600-1773444600@falladosdemaig.com
SUMMARY:EXCURSIÓ NOCTURNA
DESCRIPTION:Excursió nocturna amb ruta per a veure les Falles de València\,  en autobús pagat a escot. 00:15 h.
URL:https://falladosdemaig.com/event/excursio-nocturna
LOCATION:Casal de la Falla.\, Carrer Mariana Colas\, 28\, Paterna\, Valencia\, 46980\, España
ORGANIZER;CN="Falla Pla%C3%A7a Dos de Maig":MAILTO:relacionspubliques@falladosdemaig.com
END:VEVENT
BEGIN:VEVENT
DTSTART;TZID=Europe/Madrid:20260313T223000
DTEND;TZID=Europe/Madrid:20260313T230000
DTSTAMP:20260420T183225
CREATED:20260223T215653Z
LAST-MODIFIED:20260223T215705Z
UID:2850-1773441000-1773442800@falladosdemaig.com
SUMMARY:Lliurament de recompenses
DESCRIPTION:Lliurament de recompenses per a la comissió major. 22:30 h.
URL:https://falladosdemaig.com/event/lliurament-de-recompenses-2
LOCATION:Valencia
END:VEVENT
BEGIN:VEVENT
DTSTART;TZID=Europe/Madrid:20260313T220000
DTEND;TZID=Europe/Madrid:20260313T230000
DTSTAMP:20260420T183225
CREATED:20260223T215539Z
LAST-MODIFIED:20260223T215544Z
UID:2848-1773439200-1773442800@falladosdemaig.com
SUMMARY:Premis del Campionar de Parxis
DESCRIPTION:Premis del Campionat de parxís\, patrocinats per bar La Sort i cerveceria Velasco.
URL:https://falladosdemaig.com/event/premis-del-campionar-de-parxis
LOCATION:Valencia
END:VEVENT
BEGIN:VEVENT
DTSTART;TZID=Europe/Madrid:20260313T213000
DTEND;TZID=Europe/Madrid:20260313T233000
DTSTAMP:20260420T183225
CREATED:20260223T214807Z
LAST-MODIFIED:20260223T214812Z
UID:2843-1773437400-1773444600@falladosdemaig.com
SUMMARY:2ª  NIT D'ALBAES
DESCRIPTION:2ª. Nit d’albaes. Aquesta nit tindrem l’honor de rebre al nostre casal a Junta Local fallera que amb la “NIT D’ALBAES” arriben a honrar a les nostres FFMM i Presidents
URL:https://falladosdemaig.com/event/2a-nit-dalbaes
LOCATION:Casal de la Falla.\, Carrer Mariana Colas\, 28\, Paterna\, Valencia\, 46980\, España
END:VEVENT
BEGIN:VEVENT
DTSTART;TZID=Europe/Madrid:20260313T213000
DTEND;TZID=Europe/Madrid:20260313T230000
DTSTAMP:20260420T183225
CREATED:20240214T100051Z
LAST-MODIFIED:20260223T215337Z
UID:1584-1773437400-1773442800@falladosdemaig.com
SUMMARY:Sopar d'aixellet
DESCRIPTION:SOPAR D’AISELLET \n \nSopar per tota la Comisión Major
URL:https://falladosdemaig.com/event/sopar-daixellet-2
LOCATION:Casal de la Falla.\, Carrer Mariana Colas\, 28\, Paterna\, Valencia\, 46980\, España
CATEGORIES:Actes propis de la falla
ORGANIZER;CN="Falla Pla%C3%A7a Dos de Maig":MAILTO:relacionspubliques@falladosdemaig.com
END:VEVENT
BEGIN:VEVENT
DTSTART;TZID=Europe/Madrid:20260313T210000
DTEND;TZID=Europe/Madrid:20260313T220000
DTSTAMP:20260420T183225
CREATED:20260223T215102Z
LAST-MODIFIED:20260223T215108Z
UID:2845-1773435600-1773439200@falladosdemaig.com
SUMMARY:Inauguración de la Carpa
DESCRIPTION:Inauguració de la nostra carpa-casal per a les falles de 2026
URL:https://falladosdemaig.com/event/inauguracion-de-la-carpa
LOCATION:Valencia
END:VEVENT
BEGIN:VEVENT
DTSTART;TZID=Europe/Madrid:20260311T200000
DTEND;TZID=Europe/Madrid:20260311T210000
DTSTAMP:20260420T183225
CREATED:20250123T114825Z
LAST-MODIFIED:20260223T214907Z
UID:2433-1773259200-1773262800@falladosdemaig.com
SUMMARY:Recollida de Ninots per a l'Exposició
DESCRIPTION:Recollida dels Ninots de l’Exposició del Gran Teatre Antonio Ferrandis.
URL:https://falladosdemaig.com/event/recollida-de-ninots-per-a-lexposicio
LOCATION:Gran Teatre Antonio Ferrandis\, Plaça de Exèrcit Espanyol\, 4\, Paterna\, Valencia\, 46980\, España
CATEGORIES:Altres actes festius i fallers
END:VEVENT
BEGIN:VEVENT
DTSTART;TZID=Europe/Madrid:20260307T224500
DTEND;TZID=Europe/Madrid:20260307T230000
DTSTAMP:20260420T183225
CREATED:20240214T094540Z
LAST-MODIFIED:20260223T214231Z
UID:1568-1772923500-1772924400@falladosdemaig.com
SUMMARY:CAVALCADA DEL NINOT 2026
DESCRIPTION:Replegà (comissió major i infantil). 11 h. \nConcentració al Casal per acudir a la \nCavalcada del Ninot. 15:00 h. \nConcentració de les comissions als \ncarrers: Av. Blasco Ibáñez\, C/ Marià \nBenlliure\, C/ Poeta Zorrilla. 16:00 h. \nCAVALCADA DEL NINOT 2026. \n17:00 H. \nRecorregut: Av. Blasco ibáñez\, \nC/Comte Montornés\, \nPlaça Enginyer Castells\, \nC/Mèdic Ballester\, Plaça Major\, C/Major\, \nC/ Vicent Lerma. \nLectura de premis dels concursos de presentació \nFi de festa\, cavalcada i teatre a l’esplanada del Coetòdrom. 22:45 h. \nNit d’orquestra. 23:15 h. Organitza JLFP. \n 
URL:https://falladosdemaig.com/event/cavalcada-del-ninot-2024
LOCATION:Ayuntamiento de Paterna\, Plaça Enginyer Castells\, 1\, Paterna\, Valencia\, 46980\, España
END:VEVENT
BEGIN:VEVENT
DTSTART;TZID=Europe/Madrid:20260307T220000
DTEND;TZID=Europe/Madrid:20260307T220000
DTSTAMP:20260420T183225
CREATED:20240214T094738Z
LAST-MODIFIED:20260223T214355Z
UID:1570-1772920800-1772920800@falladosdemaig.com
SUMMARY:LECTURA PREMIS PRESENTACIONS
DESCRIPTION:Lectura de premis dels concursos de presentació\, fi de festa i cavalcada a \nl’esplanada del Coetòdrom. 22:45 h. \nNit d’orquestra. 23:00 h. Organitza JLFP.
URL:https://falladosdemaig.com/event/lectura-premis-presentacions
LOCATION:Cohetodromo de Paterna\, C. del Mestre Ramon Ramia Querol\, 10-14\, Paterna\, Valencia\, 46980\, España
END:VEVENT
BEGIN:VEVENT
DTSTART;TZID=Europe/Madrid:20260306T193000
DTEND;TZID=Europe/Madrid:20260306T193000
DTSTAMP:20260420T183225
CREATED:20240214T095422Z
LAST-MODIFIED:20260223T214639Z
UID:1579-1772825400-1772825400@falladosdemaig.com
SUMMARY:1ª NIT D'ALBAES
DESCRIPTION:1ª. Nit d’albaes. Aquesta nit tindrem l’honor de rebre al nostre casal a Junta Local fallera que amb la “NIT D’ALBAES” arriben a honrar a les nostres FFMM i Presidents
URL:https://falladosdemaig.com/event/nit-dalbaes
LOCATION:Casal de la Falla.\, Carrer Mariana Colas\, 28\, Paterna\, Valencia\, 46980\, España
END:VEVENT
BEGIN:VEVENT
DTSTART;TZID=Europe/Madrid:20260228T180000
DTEND;TZID=Europe/Madrid:20260228T223000
DTSTAMP:20260420T183225
CREATED:20240124T182412Z
LAST-MODIFIED:20260121T161704Z
UID:1545-1772301600-1772317800@falladosdemaig.com
SUMMARY:Crida 2026
DESCRIPTION:Concentració al casal per acudir a la Crida. 18:00 h. \nInauguració de l’Exposició del Ninot al Gran Teatre Antonio Ferrandis i lectura dels premis a Ninot Indultat. De seguida\, eixida de la comitiva des del Gran Teatre ﬁns a l’Ajuntament. 18:30 h. \nCRIDA FALLES 2026\, des del balcó de l’Ajuntament\, 19:30 h. \nFesta amb DJ\, organitz LF. \nEsplanada del coetódrom.
URL:https://falladosdemaig.com/event/crida-2024
LOCATION:Ayuntamiento de Paterna\, Plaça Enginyer Castells\, 1\, Paterna\, Valencia\, 46980\, España
CATEGORIES:Altres actes festius i fallers
END:VEVENT
BEGIN:VEVENT
DTSTART;TZID=Europe/Madrid:20260228T143000
DTEND;TZID=Europe/Madrid:20260228T143000
DTSTAMP:20260420T183225
CREATED:20240214T104621Z
LAST-MODIFIED:20260121T120525Z
UID:1592-1772289000-1772289000@falladosdemaig.com
SUMMARY:Dinar d'aisellet per la Comissió Major
DESCRIPTION:Dinar d’aixenet per a la Comissió Major
URL:https://falladosdemaig.com/event/dinar-daisellet-per-la-comissio-major
LOCATION:Casal de la Falla.\, Carrer Mariana Colas\, 28\, Paterna\, Valencia\, 46980\, España
CATEGORIES:Actes propis de la falla
ORGANIZER;CN="Falla Pla%C3%A7a Dos de Maig":MAILTO:relacionspubliques@falladosdemaig.com
END:VEVENT
BEGIN:VEVENT
DTSTART;TZID=Europe/Madrid:20260228T133000
DTEND;TZID=Europe/Madrid:20260228T143000
DTSTAMP:20260420T183225
CREATED:20240214T104519Z
LAST-MODIFIED:20260121T120619Z
UID:1590-1772285400-1772289000@falladosdemaig.com
SUMMARY:Dinar d'aisellet per la Comissió Infantil
DESCRIPTION:Dinar d’aixenet per a la Comissió Infantil.
URL:https://falladosdemaig.com/event/dinar-daisellet-per-la-comissio-infantil
LOCATION:Casal de la Falla.\, Carrer Mariana Colas\, 28\, Paterna\, Valencia\, 46980\, España
CATEGORIES:Actes propis de la falla
ORGANIZER;CN="Falla Pla%C3%A7a Dos de Maig":MAILTO:relacionspubliques@falladosdemaig.com
END:VEVENT
BEGIN:VEVENT
DTSTART;TZID=Europe/Madrid:20260228T100000
DTEND;TZID=Europe/Madrid:20260228T120000
DTSTAMP:20260420T183225
CREATED:20231001T180114Z
LAST-MODIFIED:20260121T120358Z
UID:1343-1772272800-1772280000@falladosdemaig.com
SUMMARY:penjada de banderes
DESCRIPTION:Penjada de banderes animada per una \nxaranga. 10:00 h. \n 
URL:https://falladosdemaig.com/event/merienda-comision-infantil-2
LOCATION:Casal de la Falla.\, Carrer Mariana Colas\, 28\, Paterna\, Valencia\, 46980\, España
CATEGORIES:Actes propis de la falla
ORGANIZER;CN="Falla Pla%C3%A7a Dos de Maig":MAILTO:relacionspubliques@falladosdemaig.com
END:VEVENT
BEGIN:VEVENT
DTSTART;TZID=Europe/Madrid:20260225T190000
DTEND;TZID=Europe/Madrid:20260225T210000
DTSTAMP:20260420T183225
CREATED:20240124T181540Z
LAST-MODIFIED:20260219T215031Z
UID:1538-1772046000-1772053200@falladosdemaig.com
SUMMARY:Lliurament de Ninots per a l'Exposició
DESCRIPTION:Lliuramnet de Ninots per a l’Exposicio al Gran Teatro Antonio Ferrandis.
URL:https://falladosdemaig.com/event/lliurament-de-ninots-per-a-lexposicio
LOCATION:Gran Teatre Antonio Ferrandis\, Plaça de Exèrcit Espanyol\, 4\, Paterna\, Valencia\, 46980\, España
CATEGORIES:Altres actes festius i fallers
END:VEVENT
BEGIN:VEVENT
DTSTART;TZID=Europe/Madrid:20260221T213000
DTEND;TZID=Europe/Madrid:20260221T213000
DTSTAMP:20260420T183225
CREATED:20240214T095315Z
LAST-MODIFIED:20260121T120014Z
UID:1576-1771709400-1771709400@falladosdemaig.com
SUMMARY:CONCURS DE PAELLES
DESCRIPTION:Concurs de Paelles al nostre casal\, patrocinat per Tapioca
URL:https://falladosdemaig.com/event/concurs-de-paelles
LOCATION:Casal de la Falla.\, Carrer Mariana Colas\, 28\, Paterna\, Valencia\, 46980\, España
ORGANIZER;CN="Falla Pla%C3%A7a Dos de Maig":MAILTO:relacionspubliques@falladosdemaig.com
END:VEVENT
BEGIN:VEVENT
DTSTART;TZID=Europe/Madrid:20260221T110000
DTEND;TZID=Europe/Madrid:20260221T123000
DTSTAMP:20260420T183225
CREATED:20230815T185551Z
LAST-MODIFIED:20260121T115924Z
UID:1274-1771671600-1771677000@falladosdemaig.com
SUMMARY:Replega
DESCRIPTION:REPLEGÀ (COMISSIÓ MAJOR I INFANTIL)
URL:https://falladosdemaig.com/event/asamblea-general-ordinaria
LOCATION:Casal de la Falla.\, Carrer Mariana Colas\, 28\, Paterna\, Valencia\, 46980\, España
CATEGORIES:Actes propis de la falla
ORGANIZER;CN="Falla Pla%C3%A7a Dos de Maig":MAILTO:relacionspubliques@falladosdemaig.com
END:VEVENT
BEGIN:VEVENT
DTSTART;TZID=Europe/Madrid:20260220T210000
DTEND;TZID=Europe/Madrid:20260220T220000
DTSTAMP:20260420T183225
CREATED:20240124T181714Z
LAST-MODIFIED:20260121T115738Z
UID:1540-1771621200-1771624800@falladosdemaig.com
SUMMARY:Vi d'Honor de la Fallera Major
DESCRIPTION:  \nVi d’Honor per a tota la Comissió Major oferit per la Fallera Major.
URL:https://falladosdemaig.com/event/vi-dhonor-de-la-comissio-major
LOCATION:Casal de la Falla.\, Carrer Mariana Colas\, 28\, Paterna\, Valencia\, 46980\, España
CATEGORIES:Actes propis de la falla
END:VEVENT
END:VCALENDAR