BEGIN:VCALENDAR
VERSION:2.0
PRODID:-//A.C. Falla Plaça Dos de Maig i Voltants de Paterna - ECPv6.15.20//NONSGML v1.0//EN
CALSCALE:GREGORIAN
METHOD:PUBLISH
X-ORIGINAL-URL:https://falladosdemaig.com
X-WR-CALDESC:Eventos para A.C. Falla Plaça Dos de Maig i Voltants de Paterna
REFRESH-INTERVAL;VALUE=DURATION:PT1H
X-Robots-Tag:noindex
X-PUBLISHED-TTL:PT1H
BEGIN:VTIMEZONE
TZID:Europe/Madrid
BEGIN:DAYLIGHT
TZOFFSETFROM:+0100
TZOFFSETTO:+0200
TZNAME:CEST
DTSTART:20250330T010000
END:DAYLIGHT
BEGIN:STANDARD
TZOFFSETFROM:+0200
TZOFFSETTO:+0100
TZNAME:CET
DTSTART:20251026T010000
END:STANDARD
BEGIN:DAYLIGHT
TZOFFSETFROM:+0100
TZOFFSETTO:+0200
TZNAME:CEST
DTSTART:20260329T010000
END:DAYLIGHT
BEGIN:STANDARD
TZOFFSETFROM:+0200
TZOFFSETTO:+0100
TZNAME:CET
DTSTART:20261025T010000
END:STANDARD
BEGIN:DAYLIGHT
TZOFFSETFROM:+0100
TZOFFSETTO:+0200
TZNAME:CEST
DTSTART:20270328T010000
END:DAYLIGHT
BEGIN:STANDARD
TZOFFSETFROM:+0200
TZOFFSETTO:+0100
TZNAME:CET
DTSTART:20271031T010000
END:STANDARD
END:VTIMEZONE
BEGIN:VEVENT
DTSTART;TZID=Europe/Madrid:20260306T193000
DTEND;TZID=Europe/Madrid:20260306T193000
DTSTAMP:20260422T124308
CREATED:20240214T095422Z
LAST-MODIFIED:20260223T214639Z
UID:1579-1772825400-1772825400@falladosdemaig.com
SUMMARY:1ª NIT D'ALBAES
DESCRIPTION:1ª. Nit d’albaes. Aquesta nit tindrem l’honor de rebre al nostre casal a Junta Local fallera que amb la “NIT D’ALBAES” arriben a honrar a les nostres FFMM i Presidents
URL:https://falladosdemaig.com/event/nit-dalbaes
LOCATION:Casal de la Falla.\, Carrer Mariana Colas\, 28\, Paterna\, Valencia\, 46980\, España
END:VEVENT
BEGIN:VEVENT
DTSTART;TZID=Europe/Madrid:20260311T200000
DTEND;TZID=Europe/Madrid:20260311T210000
DTSTAMP:20260422T124308
CREATED:20250123T114825Z
LAST-MODIFIED:20260223T214907Z
UID:2433-1773259200-1773262800@falladosdemaig.com
SUMMARY:Recollida de Ninots per a l'Exposició
DESCRIPTION:Recollida dels Ninots de l’Exposició del Gran Teatre Antonio Ferrandis.
URL:https://falladosdemaig.com/event/recollida-de-ninots-per-a-lexposicio
LOCATION:Gran Teatre Antonio Ferrandis\, Plaça de Exèrcit Espanyol\, 4\, Paterna\, Valencia\, 46980\, España
CATEGORIES:Altres actes festius i fallers
END:VEVENT
BEGIN:VEVENT
DTSTART;TZID=Europe/Madrid:20260313T213000
DTEND;TZID=Europe/Madrid:20260313T233000
DTSTAMP:20260422T124308
CREATED:20260223T214807Z
LAST-MODIFIED:20260223T214812Z
UID:2843-1773437400-1773444600@falladosdemaig.com
SUMMARY:2ª  NIT D'ALBAES
DESCRIPTION:2ª. Nit d’albaes. Aquesta nit tindrem l’honor de rebre al nostre casal a Junta Local fallera que amb la “NIT D’ALBAES” arriben a honrar a les nostres FFMM i Presidents
URL:https://falladosdemaig.com/event/2a-nit-dalbaes
LOCATION:Casal de la Falla.\, Carrer Mariana Colas\, 28\, Paterna\, Valencia\, 46980\, España
END:VEVENT
BEGIN:VEVENT
DTSTART;TZID=Europe/Madrid:20260316T140000
DTEND;TZID=Europe/Madrid:20260316T150000
DTSTAMP:20260422T124308
CREATED:20240301T164200Z
LAST-MODIFIED:20260219T230801Z
UID:1621-1773669600-1773673200@falladosdemaig.com
SUMMARY:Lectura de Premis
DESCRIPTION:Lectura de premis i lliurament de trofeus esportes des de la porta de l’Ajuntamente
URL:https://falladosdemaig.com/event/lectura-de-premis
LOCATION:Ayuntamiento de Paterna\, Plaça Enginyer Castells\, 1\, Paterna\, Valencia\, 46980\, España
CATEGORIES:Altres actes festius i fallers
END:VEVENT
BEGIN:VEVENT
DTSTART;TZID=Europe/Madrid:20260318T140000
DTEND;TZID=Europe/Madrid:20260318T143000
DTSTAMP:20260422T124308
CREATED:20240124T182046Z
LAST-MODIFIED:20260223T222223Z
UID:1542-1773842400-1773844200@falladosdemaig.com
SUMMARY:Mascletà Parc Central
DESCRIPTION:Mascletà al Parc Central. 14:00 h.
URL:https://falladosdemaig.com/event/mascleta-manual
LOCATION:Cohetodromo de Paterna\, C. del Mestre Ramon Ramia Querol\, 10-14\, Paterna\, Valencia\, 46980\, España
CATEGORIES:Altres actes festius i fallers
END:VEVENT
BEGIN:VEVENT
DTSTART;TZID=Europe/Madrid:20260318T140000
DTEND;TZID=Europe/Madrid:20260318T163000
DTSTAMP:20260422T124308
CREATED:20240302T104022Z
LAST-MODIFIED:20260223T222457Z
UID:1657-1773842400-1773851400@falladosdemaig.com
SUMMARY:Dinar oferit per la FMI y PI
DESCRIPTION:Dinar per a la comissió infantil oferit per la FMI Valeria Luján Ruiz  i el President Infantil Hugo Sánchez de la Blanca.  \n14:00 h. \nSeguidament\, lliurament de recompenses infantils.
URL:https://falladosdemaig.com/event/dinar-oferit-per-la-fmi-y-pi
LOCATION:Casal de la Falla.\, Carrer Mariana Colas\, 28\, Paterna\, Valencia\, 46980\, España
CATEGORIES:Actes propis de la falla
ORGANIZER;CN="Falla Pla%C3%A7a Dos de Maig":MAILTO:relacionspubliques@falladosdemaig.com
END:VEVENT
BEGIN:VEVENT
DTSTART;TZID=Europe/Madrid:20260318T160000
DTEND;TZID=Europe/Madrid:20260318T170000
DTSTAMP:20260422T124308
CREATED:20250307T104227Z
LAST-MODIFIED:20260223T222544Z
UID:2641-1773849600-1773853200@falladosdemaig.com
SUMMARY:LLIURAMENT DE INSIGNIES INFANTILS
DESCRIPTION:Lliurament de Insignies de la comissió Infantil
URL:https://falladosdemaig.com/event/lliurament-de-insignies-infantils
LOCATION:Casal de la Falla.\, Carrer Mariana Colas\, 28\, Paterna\, Valencia\, 46980\, España
CATEGORIES:Actes propis de la falla
ORGANIZER;CN="Falla Pla%C3%A7a Dos de Maig":MAILTO:relacionspubliques@falladosdemaig.com
END:VEVENT
BEGIN:VEVENT
DTSTART;TZID=Europe/Madrid:20260318T170000
DTEND;TZID=Europe/Madrid:20260318T180000
DTSTAMP:20260422T124308
CREATED:20250307T104404Z
LAST-MODIFIED:20260223T222639Z
UID:2643-1773853200-1773856800@falladosdemaig.com
SUMMARY:CONCURS DE DISFRESSES INFANTILS
DESCRIPTION:Concurs de disfresses infantils
URL:https://falladosdemaig.com/event/concurs-de-disfresses-infantils
LOCATION:Casal de la Falla.\, Carrer Mariana Colas\, 28\, Paterna\, Valencia\, 46980\, España
CATEGORIES:Actes propis de la falla
ORGANIZER;CN="Falla Pla%C3%A7a Dos de Maig":MAILTO:relacionspubliques@falladosdemaig.com
END:VEVENT
BEGIN:VEVENT
DTSTART;TZID=Europe/Madrid:20260318T180000
DTEND;TZID=Europe/Madrid:20260318T193000
DTSTAMP:20260422T124308
CREATED:20240302T112134Z
LAST-MODIFIED:20260223T222723Z
UID:1678-1773856800-1773862200@falladosdemaig.com
SUMMARY:Berenar Infantil
DESCRIPTION:Berenar infantil i concurs de disfresses. 17:30 h \n \nBerenar per tota la Comissió Infantil
URL:https://falladosdemaig.com/event/merienda-comision-infantil-3
LOCATION:Casal de la Falla.\, Carrer Mariana Colas\, 28\, Paterna\, Valencia\, 46980\, España
CATEGORIES:Actes propis de la falla
ORGANIZER;CN="Falla Pla%C3%A7a Dos de Maig":MAILTO:relacionspubliques@falladosdemaig.com
END:VEVENT
BEGIN:VEVENT
DTSTART;TZID=Europe/Madrid:20260318T223000
DTEND;TZID=Europe/Madrid:20260318T223000
DTSTAMP:20260422T124308
CREATED:20240301T172156Z
LAST-MODIFIED:20260223T223014Z
UID:1646-1773873000-1773873000@falladosdemaig.com
SUMMARY:Sopar per la Comissió Major
DESCRIPTION:Sopar per la Comissió Major
URL:https://falladosdemaig.com/event/sopar-per-la-comissio-major-2
LOCATION:Casal de la Falla.\, Carrer Mariana Colas\, 28\, Paterna\, Valencia\, 46980\, España
CATEGORIES:Actes propis de la falla
ORGANIZER;CN="Falla Pla%C3%A7a Dos de Maig":MAILTO:relacionspubliques@falladosdemaig.com
END:VEVENT
BEGIN:VEVENT
DTSTART;TZID=Europe/Madrid:20260318T233000
DTEND;TZID=Europe/Madrid:20260318T233000
DTSTAMP:20260422T124308
CREATED:20240302T104627Z
LAST-MODIFIED:20260223T223321Z
UID:1661-1773876600-1773876600@falladosdemaig.com
SUMMARY:Gran "NIT DEL FOC"
DESCRIPTION:Gran «NIT DEL FOC» al Parc Central
URL:https://falladosdemaig.com/event/gran-nit-del-foc
LOCATION:Parc Central\, 39.50961549021725\, -0.44582190493077434\, PATERNA\, VALENCIA\, 46980\, España
CATEGORIES:Altres actes festius i fallers
END:VEVENT
BEGIN:VEVENT
DTSTART;TZID=Europe/Madrid:20260318T233000
DTEND;TZID=Europe/Madrid:20260318T233000
DTSTAMP:20260422T124308
CREATED:20250307T104550Z
LAST-MODIFIED:20260223T223423Z
UID:2645-1773876600-1773876600@falladosdemaig.com
SUMMARY:Festa nocturna
DESCRIPTION:Festa nocturna . 00:00h.
URL:https://falladosdemaig.com/event/festa-nocturna
LOCATION:Casal de la Falla.\, Carrer Mariana Colas\, 28\, Paterna\, Valencia\, 46980\, España
CATEGORIES:Actes propis de la falla
ORGANIZER;CN="Falla Pla%C3%A7a Dos de Maig":MAILTO:relacionspubliques@falladosdemaig.com
END:VEVENT
BEGIN:VEVENT
DTSTART;TZID=Europe/Madrid:20260319T080000
DTEND;TZID=Europe/Madrid:20260319T090000
DTSTAMP:20260422T124308
CREATED:20240302T110222Z
LAST-MODIFIED:20260223T223635Z
UID:1665-1773907200-1773910800@falladosdemaig.com
SUMMARY:Despertà
DESCRIPTION:Despertà per tota la barriada. 8:00 h. En acabar\, desdejuni per als participants
URL:https://falladosdemaig.com/event/desperta-2
LOCATION:Casal de la Falla.\, Carrer Mariana Colas\, 28\, Paterna\, Valencia\, 46980\, España
CATEGORIES:Actes propis de la falla
ORGANIZER;CN="Falla Pla%C3%A7a Dos de Maig":MAILTO:relacionspubliques@falladosdemaig.com
END:VEVENT
BEGIN:VEVENT
DTSTART;TZID=Europe/Madrid:20260319T150000
DTEND;TZID=Europe/Madrid:20260319T170000
DTSTAMP:20260422T124308
CREATED:20240302T111541Z
LAST-MODIFIED:20260223T224039Z
UID:1676-1773932400-1773939600@falladosdemaig.com
SUMMARY:Dinar Comissió Major oferit pe la Fallera Major
DESCRIPTION:Seguidament\, dinar per a la comissió major oferit per la FM. \nAlmudena Carrasco Esparcia \n \n 
URL:https://falladosdemaig.com/event/dinar-comissio-major
LOCATION:Casal de la Falla.\, Carrer Mariana Colas\, 28\, Paterna\, Valencia\, 46980\, España
CATEGORIES:Actes propis de la falla
END:VEVENT
END:VCALENDAR