BEGIN:VCALENDAR
VERSION:2.0
PRODID:-//A.C. Falla Plaça Dos de Maig i Voltants de Paterna - ECPv6.15.20//NONSGML v1.0//EN
CALSCALE:GREGORIAN
METHOD:PUBLISH
X-WR-CALNAME:A.C. Falla Plaça Dos de Maig i Voltants de Paterna
X-ORIGINAL-URL:https://falladosdemaig.com
X-WR-CALDESC:Eventos para A.C. Falla Plaça Dos de Maig i Voltants de Paterna
REFRESH-INTERVAL;VALUE=DURATION:PT1H
X-Robots-Tag:noindex
X-PUBLISHED-TTL:PT1H
BEGIN:VTIMEZONE
TZID:Europe/Madrid
BEGIN:DAYLIGHT
TZOFFSETFROM:+0100
TZOFFSETTO:+0200
TZNAME:CEST
DTSTART:20240331T010000
END:DAYLIGHT
BEGIN:STANDARD
TZOFFSETFROM:+0200
TZOFFSETTO:+0100
TZNAME:CET
DTSTART:20241027T010000
END:STANDARD
BEGIN:DAYLIGHT
TZOFFSETFROM:+0100
TZOFFSETTO:+0200
TZNAME:CEST
DTSTART:20250330T010000
END:DAYLIGHT
BEGIN:STANDARD
TZOFFSETFROM:+0200
TZOFFSETTO:+0100
TZNAME:CET
DTSTART:20251026T010000
END:STANDARD
BEGIN:DAYLIGHT
TZOFFSETFROM:+0100
TZOFFSETTO:+0200
TZNAME:CEST
DTSTART:20260329T010000
END:DAYLIGHT
BEGIN:STANDARD
TZOFFSETFROM:+0200
TZOFFSETTO:+0100
TZNAME:CET
DTSTART:20261025T010000
END:STANDARD
END:VTIMEZONE
BEGIN:VEVENT
DTSTART;TZID=Europe/Madrid:20251017T220000
DTEND;TZID=Europe/Madrid:20251017T233000
DTSTAMP:20260420T234657
CREATED:20230701T155649Z
LAST-MODIFIED:20250523T154451Z
UID:1225-1760738400-1760743800@falladosdemaig.com
SUMMARY:Concurso de Play Back Vila de Paterna 1ª Part
DESCRIPTION:La primera part de 16 edició del concurs de playback “Vila de Paterna” \ntindrà lloc els dies 17  d’octubre a partir de les 22H en el Espai Cultural ‘Cova Gran’ de Paterna.
URL:https://falladosdemaig.com/event/concurso-de-play-back-vila-de-paterna
LOCATION:Auditori la Cova Gran\, Carrer de Godella\, 30\, paterna\, Valencia\, 46980\, España
CATEGORIES:Actes propis de la falla
ORGANIZER;CN="Falla Pla%C3%A7a Dos de Maig":MAILTO:relacionspubliques@falladosdemaig.com
END:VEVENT
BEGIN:VEVENT
DTSTART;TZID=Europe/Madrid:20251018T220000
DTEND;TZID=Europe/Madrid:20251018T233000
DTSTAMP:20260420T234657
CREATED:20230701T160331Z
LAST-MODIFIED:20250523T154617Z
UID:1231-1760824800-1760830200@falladosdemaig.com
SUMMARY:Concurso de Play Back Vila de Paterna 2ª Part
DESCRIPTION:La segona part de la 16 edició del concurs de playback “Vila de Paterna” \ntindrà lloc el dia 18  d’octubre a partir de les 22H en el Espai Cultural ‘Cova Gran’ de Paterna.
URL:https://falladosdemaig.com/event/concurso-de-play-back-vila-de-paterna-2a-part
LOCATION:Auditori la Cova Gran\, Carrer de Godella\, 30\, paterna\, Valencia\, 46980\, España
CATEGORIES:Actes propis de la falla
ORGANIZER;CN="Falla Pla%C3%A7a Dos de Maig":MAILTO:relacionspubliques@falladosdemaig.com
END:VEVENT
BEGIN:VEVENT
DTSTART;TZID=Europe/Madrid:20251031T180000
DTEND;TZID=Europe/Madrid:20251031T200000
DTSTAMP:20260420T234657
CREATED:20240911T085325Z
LAST-MODIFIED:20250523T154801Z
UID:2346-1761933600-1761940800@falladosdemaig.com
SUMMARY:MERIENDA INFANTIL DE HALLOWEEN
DESCRIPTION:Berenar  y festa de Halloween per a tota la Comissió Infantil. \nNO OLVIDEU VIENDRE DISFRESSATS
URL:https://falladosdemaig.com/event/merienda-infantil-de-halloween
LOCATION:Casal de la Falla.\, Carrer Mariana Colas\, 28\, Paterna\, Valencia\, 46980\, España
CATEGORIES:Actes propis de la falla
ORGANIZER;CN="Falla Pla%C3%A7a Dos de Maig":MAILTO:relacionspubliques@falladosdemaig.com
END:VEVENT
END:VCALENDAR