BEGIN:VCALENDAR
VERSION:2.0
PRODID:-//A.C. Falla Plaça Dos de Maig i Voltants de Paterna - ECPv6.15.20//NONSGML v1.0//EN
CALSCALE:GREGORIAN
METHOD:PUBLISH
X-WR-CALNAME:A.C. Falla Plaça Dos de Maig i Voltants de Paterna
X-ORIGINAL-URL:https://falladosdemaig.com
X-WR-CALDESC:Eventos para A.C. Falla Plaça Dos de Maig i Voltants de Paterna
REFRESH-INTERVAL;VALUE=DURATION:PT1H
X-Robots-Tag:noindex
X-PUBLISHED-TTL:PT1H
BEGIN:VTIMEZONE
TZID:Europe/Madrid
BEGIN:DAYLIGHT
TZOFFSETFROM:+0100
TZOFFSETTO:+0200
TZNAME:CEST
DTSTART:20240331T010000
END:DAYLIGHT
BEGIN:STANDARD
TZOFFSETFROM:+0200
TZOFFSETTO:+0100
TZNAME:CET
DTSTART:20241027T010000
END:STANDARD
BEGIN:DAYLIGHT
TZOFFSETFROM:+0100
TZOFFSETTO:+0200
TZNAME:CEST
DTSTART:20250330T010000
END:DAYLIGHT
BEGIN:STANDARD
TZOFFSETFROM:+0200
TZOFFSETTO:+0100
TZNAME:CET
DTSTART:20251026T010000
END:STANDARD
BEGIN:DAYLIGHT
TZOFFSETFROM:+0100
TZOFFSETTO:+0200
TZNAME:CEST
DTSTART:20260329T010000
END:DAYLIGHT
BEGIN:STANDARD
TZOFFSETFROM:+0200
TZOFFSETTO:+0100
TZNAME:CET
DTSTART:20261025T010000
END:STANDARD
END:VTIMEZONE
BEGIN:VEVENT
DTSTART;VALUE=DATE:20250912
DTEND;VALUE=DATE:20250914
DTSTAMP:20260421T014220
CREATED:20240902T164343Z
LAST-MODIFIED:20250523T112311Z
UID:2334-1757635200-1757807999@falladosdemaig.com
SUMMARY:GERMANOR 2025
DESCRIPTION:GERMANOR FALLERA organitzada per la Junta Local Fallera de Paterna \n11:00 Jocs de taula \n11:00 Jocs infantils i de taula \n14:30 dinar \n16:30 Tardeo –  Karaoke interactiu \n17:00 Jocs Infantils \n21:30 Sopar \n23:00 Discomovil de temàtica Hippie \n  \n 
URL:https://falladosdemaig.com/event/germanor-2024-2
LOCATION:Parc Central\, 39.50961549021725\, -0.44582190493077434\, PATERNA\, VALENCIA\, 46980\, España
CATEGORIES:Altres actes festius i fallers
END:VEVENT
BEGIN:VEVENT
DTSTART;TZID=Europe/Madrid:20250919T210000
DTEND;TZID=Europe/Madrid:20250919T230000
DTSTAMP:20260421T014220
CREATED:20250523T154110Z
LAST-MODIFIED:20250523T154110Z
UID:2728-1758315600-1758322800@falladosdemaig.com
SUMMARY:Presentación Fallera Mayor de Paterna
DESCRIPTION:Solemne Presentación y Exaltación de la Fallera Mayor de Paterna y su Corte de Honor
URL:https://falladosdemaig.com/event/presentacion-fallera-mayor-de-paterna
LOCATION:Gran Teatre Antonio Ferrandis\, Plaça de Exèrcit Espanyol\, 4\, Paterna\, Valencia\, 46980\, España
CATEGORIES:Altres actes festius i fallers
END:VEVENT
BEGIN:VEVENT
DTSTART;TZID=Europe/Madrid:20250920T180000
DTEND;TZID=Europe/Madrid:20250920T200000
DTSTAMP:20260421T014220
CREATED:20250523T154203Z
LAST-MODIFIED:20250523T154203Z
UID:2730-1758391200-1758398400@falladosdemaig.com
SUMMARY:Presentación Fallera Mayor Infantil de Paterna
DESCRIPTION:Solemne Presentación y Exaltación de la Fallera Mayor Infantil de Paterna y su Corte de Honor
URL:https://falladosdemaig.com/event/presentacion-fallera-mayor-infantil-de-paterna
LOCATION:Gran Teatre Antonio Ferrandis\, Plaça de Exèrcit Espanyol\, 4\, Paterna\, Valencia\, 46980\, España
CATEGORIES:Altres actes festius i fallers
END:VEVENT
END:VCALENDAR