BEGIN:VCALENDAR
VERSION:2.0
PRODID:-//A.C. Falla Plaça Dos de Maig i Voltants de Paterna - ECPv6.15.20//NONSGML v1.0//EN
CALSCALE:GREGORIAN
METHOD:PUBLISH
X-ORIGINAL-URL:https://falladosdemaig.com
X-WR-CALDESC:Eventos para A.C. Falla Plaça Dos de Maig i Voltants de Paterna
REFRESH-INTERVAL;VALUE=DURATION:PT1H
X-Robots-Tag:noindex
X-PUBLISHED-TTL:PT1H
BEGIN:VTIMEZONE
TZID:Europe/Madrid
BEGIN:DAYLIGHT
TZOFFSETFROM:+0100
TZOFFSETTO:+0200
TZNAME:CEST
DTSTART:20240331T010000
END:DAYLIGHT
BEGIN:STANDARD
TZOFFSETFROM:+0200
TZOFFSETTO:+0100
TZNAME:CET
DTSTART:20241027T010000
END:STANDARD
BEGIN:DAYLIGHT
TZOFFSETFROM:+0100
TZOFFSETTO:+0200
TZNAME:CEST
DTSTART:20250330T010000
END:DAYLIGHT
BEGIN:STANDARD
TZOFFSETFROM:+0200
TZOFFSETTO:+0100
TZNAME:CET
DTSTART:20251026T010000
END:STANDARD
BEGIN:DAYLIGHT
TZOFFSETFROM:+0100
TZOFFSETTO:+0200
TZNAME:CEST
DTSTART:20260329T010000
END:DAYLIGHT
BEGIN:STANDARD
TZOFFSETFROM:+0200
TZOFFSETTO:+0100
TZNAME:CET
DTSTART:20261025T010000
END:STANDARD
END:VTIMEZONE
BEGIN:VEVENT
DTSTART;TZID=Europe/Madrid:20250705T210000
DTEND;TZID=Europe/Madrid:20250705T230000
DTSTAMP:20260424T222226
CREATED:20250523T103458Z
LAST-MODIFIED:20250523T103458Z
UID:2721-1751749200-1751756400@falladosdemaig.com
SUMMARY:Elección Falleras Mayores de Paterna 2026
DESCRIPTION:Elección de las que serán las Falleras Mayores de Paterna para el año 2026
URL:https://falladosdemaig.com/event/eleccion-falleras-mayores-de-paterna-2026
LOCATION:Pabellon Polideportivo Municipal Paterna\, Urb. Norte\, 23\, 46988 Paterna\, Valencia\, Paterna\, Valencia\, 46980\, España
CATEGORIES:Altres actes festius i fallers
END:VEVENT
END:VCALENDAR