BEGIN:VCALENDAR
VERSION:2.0
PRODID:-//A.C. Falla Plaça Dos de Maig i Voltants de Paterna - ECPv6.15.20//NONSGML v1.0//EN
CALSCALE:GREGORIAN
METHOD:PUBLISH
X-WR-CALNAME:A.C. Falla Plaça Dos de Maig i Voltants de Paterna
X-ORIGINAL-URL:https://falladosdemaig.com
X-WR-CALDESC:Eventos para A.C. Falla Plaça Dos de Maig i Voltants de Paterna
REFRESH-INTERVAL;VALUE=DURATION:PT1H
X-Robots-Tag:noindex
X-PUBLISHED-TTL:PT1H
BEGIN:VTIMEZONE
TZID:Europe/Madrid
BEGIN:DAYLIGHT
TZOFFSETFROM:+0100
TZOFFSETTO:+0200
TZNAME:CEST
DTSTART:20240331T010000
END:DAYLIGHT
BEGIN:STANDARD
TZOFFSETFROM:+0200
TZOFFSETTO:+0100
TZNAME:CET
DTSTART:20241027T010000
END:STANDARD
BEGIN:DAYLIGHT
TZOFFSETFROM:+0100
TZOFFSETTO:+0200
TZNAME:CEST
DTSTART:20250330T010000
END:DAYLIGHT
BEGIN:STANDARD
TZOFFSETFROM:+0200
TZOFFSETTO:+0100
TZNAME:CET
DTSTART:20251026T010000
END:STANDARD
BEGIN:DAYLIGHT
TZOFFSETFROM:+0100
TZOFFSETTO:+0200
TZNAME:CEST
DTSTART:20260329T010000
END:DAYLIGHT
BEGIN:STANDARD
TZOFFSETFROM:+0200
TZOFFSETTO:+0100
TZNAME:CET
DTSTART:20261025T010000
END:STANDARD
END:VTIMEZONE
BEGIN:VEVENT
DTSTART;TZID=Europe/Madrid:20251115T180000
DTEND;TZID=Europe/Madrid:20251115T210000
DTSTAMP:20260422T211923
CREATED:20231001T180651Z
LAST-MODIFIED:20250523T154947Z
UID:1348-1763229600-1763240400@falladosdemaig.com
SUMMARY:Signatura del Contracte Infantil
DESCRIPTION:Signatura del Contracte del Monument Infantil
URL:https://falladosdemaig.com/event/signatura-del-contracte-infantil
LOCATION:Casal de la Falla.\, Carrer Mariana Colas\, 28\, Paterna\, Valencia\, 46980\, España
CATEGORIES:Actes propis de la falla
ORGANIZER;CN="Falla Pla%C3%A7a Dos de Maig":MAILTO:relacionspubliques@falladosdemaig.com
END:VEVENT
BEGIN:VEVENT
DTSTART;TZID=Europe/Madrid:20251122T210000
DTEND;TZID=Europe/Madrid:20251122T210000
DTSTAMP:20260422T211923
CREATED:20231001T180815Z
LAST-MODIFIED:20250523T155046Z
UID:1350-1763845200-1763845200@falladosdemaig.com
SUMMARY:Signatura del Contracte Mayor
DESCRIPTION:Signatura del Contracte del Monument Major
URL:https://falladosdemaig.com/event/signatura-del-contracte-mayor
LOCATION:Casal de la Falla.\, Carrer Mariana Colas\, 28\, Paterna\, Valencia\, 46980\, España
CATEGORIES:Actes propis de la falla
ORGANIZER;CN="Falla Pla%C3%A7a Dos de Maig":MAILTO:relacionspubliques@falladosdemaig.com
END:VEVENT
END:VCALENDAR