BEGIN:VCALENDAR
VERSION:2.0
PRODID:-//A.C. Falla Plaça Dos de Maig i Voltants de Paterna - ECPv6.15.20//NONSGML v1.0//EN
CALSCALE:GREGORIAN
METHOD:PUBLISH
X-WR-CALNAME:A.C. Falla Plaça Dos de Maig i Voltants de Paterna
X-ORIGINAL-URL:https://falladosdemaig.com
X-WR-CALDESC:Eventos para A.C. Falla Plaça Dos de Maig i Voltants de Paterna
REFRESH-INTERVAL;VALUE=DURATION:PT1H
X-Robots-Tag:noindex
X-PUBLISHED-TTL:PT1H
BEGIN:VTIMEZONE
TZID:Europe/Madrid
BEGIN:DAYLIGHT
TZOFFSETFROM:+0100
TZOFFSETTO:+0200
TZNAME:CEST
DTSTART:20230326T010000
END:DAYLIGHT
BEGIN:STANDARD
TZOFFSETFROM:+0200
TZOFFSETTO:+0100
TZNAME:CET
DTSTART:20231029T010000
END:STANDARD
BEGIN:DAYLIGHT
TZOFFSETFROM:+0100
TZOFFSETTO:+0200
TZNAME:CEST
DTSTART:20240331T010000
END:DAYLIGHT
BEGIN:STANDARD
TZOFFSETFROM:+0200
TZOFFSETTO:+0100
TZNAME:CET
DTSTART:20241027T010000
END:STANDARD
BEGIN:DAYLIGHT
TZOFFSETFROM:+0100
TZOFFSETTO:+0200
TZNAME:CEST
DTSTART:20250330T010000
END:DAYLIGHT
BEGIN:STANDARD
TZOFFSETFROM:+0200
TZOFFSETTO:+0100
TZNAME:CET
DTSTART:20251026T010000
END:STANDARD
END:VTIMEZONE
BEGIN:VEVENT
DTSTART;TZID=Europe/Madrid:20240317T003000
DTEND;TZID=Europe/Madrid:20240317T170000
DTSTAMP:20260422T112141
CREATED:20240301T172321Z
LAST-MODIFIED:20240302T135545Z
UID:1648-1710635400-1710694800@falladosdemaig.com
SUMMARY:Animació i Discomóbil
DESCRIPTION:Animació i Discomóbil a càrrec de DJ Rober
URL:https://falladosdemaig.com/event/animacio-i-discomobil
LOCATION:Casal de la Falla.\, Carrer Mariana Colas\, 28\, Paterna\, Valencia\, 46980\, España
CATEGORIES:Actes propis de la falla
END:VEVENT
BEGIN:VEVENT
DTSTART;TZID=Europe/Madrid:20240319T110000
DTEND;TZID=Europe/Madrid:20240319T170000
DTSTAMP:20260422T112141
CREATED:20240302T110341Z
LAST-MODIFIED:20240302T110341Z
UID:1669-1710846000-1710867600@falladosdemaig.com
SUMMARY:Parc Infantil
DESCRIPTION:Parc infantil per a tota la Comissió Infantil
URL:https://falladosdemaig.com/event/parc-infantil
LOCATION:Casal de la Falla.\, Carrer Mariana Colas\, 28\, Paterna\, Valencia\, 46980\, España
CATEGORIES:Actes propis de la falla
ORGANIZER;CN="Falla Pla%C3%A7a Dos de Maig":MAILTO:relacionspubliques@falladosdemaig.com
END:VEVENT
END:VCALENDAR