BEGIN:VCALENDAR
VERSION:2.0
PRODID:-//A.C. Falla Plaça Dos de Maig i Voltants de Paterna - ECPv6.15.20//NONSGML v1.0//EN
CALSCALE:GREGORIAN
METHOD:PUBLISH
X-ORIGINAL-URL:https://falladosdemaig.com
X-WR-CALDESC:Eventos para A.C. Falla Plaça Dos de Maig i Voltants de Paterna
REFRESH-INTERVAL;VALUE=DURATION:PT1H
X-Robots-Tag:noindex
X-PUBLISHED-TTL:PT1H
BEGIN:VTIMEZONE
TZID:Europe/Madrid
BEGIN:DAYLIGHT
TZOFFSETFROM:+0100
TZOFFSETTO:+0200
TZNAME:CEST
DTSTART:20250330T010000
END:DAYLIGHT
BEGIN:STANDARD
TZOFFSETFROM:+0200
TZOFFSETTO:+0100
TZNAME:CET
DTSTART:20251026T010000
END:STANDARD
BEGIN:DAYLIGHT
TZOFFSETFROM:+0100
TZOFFSETTO:+0200
TZNAME:CEST
DTSTART:20260329T010000
END:DAYLIGHT
BEGIN:STANDARD
TZOFFSETFROM:+0200
TZOFFSETTO:+0100
TZNAME:CET
DTSTART:20261025T010000
END:STANDARD
BEGIN:DAYLIGHT
TZOFFSETFROM:+0100
TZOFFSETTO:+0200
TZNAME:CEST
DTSTART:20270328T010000
END:DAYLIGHT
BEGIN:STANDARD
TZOFFSETFROM:+0200
TZOFFSETTO:+0100
TZNAME:CET
DTSTART:20271031T010000
END:STANDARD
END:VTIMEZONE
BEGIN:VEVENT
DTSTART;TZID=Europe/Madrid:20260311T200000
DTEND;TZID=Europe/Madrid:20260311T210000
DTSTAMP:20260420T173148
CREATED:20250123T114825Z
LAST-MODIFIED:20260223T214907Z
UID:2433-1773259200-1773262800@falladosdemaig.com
SUMMARY:Recollida de Ninots per a l'Exposició
DESCRIPTION:Recollida dels Ninots de l’Exposició del Gran Teatre Antonio Ferrandis.
URL:https://falladosdemaig.com/event/recollida-de-ninots-per-a-lexposicio
LOCATION:Gran Teatre Antonio Ferrandis\, Plaça de Exèrcit Espanyol\, 4\, Paterna\, Valencia\, 46980\, España
CATEGORIES:Altres actes festius i fallers
END:VEVENT
BEGIN:VEVENT
DTSTART;TZID=Europe/Madrid:20260315T140000
DTEND;TZID=Europe/Madrid:20260315T170000
DTSTAMP:20260420T173148
CREATED:20240224T115917Z
LAST-MODIFIED:20260219T215548Z
UID:1612-1773583200-1773594000@falladosdemaig.com
SUMMARY:Mascletà al Parc Central
DESCRIPTION:Mascletà al Parc Central
URL:https://falladosdemaig.com/event/mascleta-al-parc-central
LOCATION:Parc Central\, 39.50961549021725\, -0.44582190493077434\, PATERNA\, VALENCIA\, 46980\, España
CATEGORIES:Altres actes festius i fallers
END:VEVENT
BEGIN:VEVENT
DTSTART;TZID=Europe/Madrid:20260316T140000
DTEND;TZID=Europe/Madrid:20260316T150000
DTSTAMP:20260420T173148
CREATED:20240301T164200Z
LAST-MODIFIED:20260219T230801Z
UID:1621-1773669600-1773673200@falladosdemaig.com
SUMMARY:Lectura de Premis
DESCRIPTION:Lectura de premis i lliurament de trofeus esportes des de la porta de l’Ajuntamente
URL:https://falladosdemaig.com/event/lectura-de-premis
LOCATION:Ayuntamiento de Paterna\, Plaça Enginyer Castells\, 1\, Paterna\, Valencia\, 46980\, España
CATEGORIES:Altres actes festius i fallers
END:VEVENT
BEGIN:VEVENT
DTSTART;TZID=Europe/Madrid:20260316T163000
DTEND;TZID=Europe/Madrid:20260316T200000
DTSTAMP:20260420T173148
CREATED:20240301T164428Z
LAST-MODIFIED:20260219T230949Z
UID:1627-1773678600-1773691200@falladosdemaig.com
SUMMARY:Concentración Lliurament Premis
DESCRIPTION:Concentració al casal per acudir al lliurament de premis. 16:30 h. \n  \nLa concentració progressiva de les \ncomissions serà en C/ Major\, C/ Carretera \nde Manises\, C/ Vicent Lerma i C/ Mallent \ni Meri a les 17:15 h.
URL:https://falladosdemaig.com/event/concentracion-lliurament-premis
LOCATION:Casal de la Falla.\, Carrer Mariana Colas\, 28\, Paterna\, Valencia\, 46980\, España
CATEGORIES:Altres actes festius i fallers
END:VEVENT
BEGIN:VEVENT
DTSTART;TZID=Europe/Madrid:20260316T180000
DTEND;TZID=Europe/Madrid:20260316T190000
DTSTAMP:20260420T173148
CREATED:20240301T164534Z
LAST-MODIFIED:20260219T231046Z
UID:1629-1773684000-1773687600@falladosdemaig.com
SUMMARY:Lliurament de premis
DESCRIPTION:LLIURAMENT DE PREMIS a la Plaça \nEnginyer Castells. 18:00 h.
URL:https://falladosdemaig.com/event/lliurament-de-premis
LOCATION:Ayuntamiento de Paterna\, Plaça Enginyer Castells\, 1\, Paterna\, Valencia\, 46980\, España
CATEGORIES:Altres actes festius i fallers
END:VEVENT
BEGIN:VEVENT
DTSTART;TZID=Europe/Madrid:20260317T153000
DTEND;TZID=Europe/Madrid:20260317T163000
DTSTAMP:20260420T173148
CREATED:20240301T171912Z
LAST-MODIFIED:20260219T231949Z
UID:1640-1773761400-1773765000@falladosdemaig.com
SUMMARY:Concentración Ofrena
DESCRIPTION:Concentración al casal per anar a l’ofrena \nLa concentració progressiva de les comissions serà en l’Avinguda Vicente Mortes. 16:15 h.
URL:https://falladosdemaig.com/event/concentracion-ofrena
LOCATION:Casal de la Falla.\, Carrer Mariana Colas\, 28\, Paterna\, Valencia\, 46980\, España
CATEGORIES:Altres actes festius i fallers
END:VEVENT
BEGIN:VEVENT
DTSTART;TZID=Europe/Madrid:20260318T140000
DTEND;TZID=Europe/Madrid:20260318T143000
DTSTAMP:20260420T173148
CREATED:20240124T182046Z
LAST-MODIFIED:20260223T222223Z
UID:1542-1773842400-1773844200@falladosdemaig.com
SUMMARY:Mascletà Parc Central
DESCRIPTION:Mascletà al Parc Central. 14:00 h.
URL:https://falladosdemaig.com/event/mascleta-manual
LOCATION:Cohetodromo de Paterna\, C. del Mestre Ramon Ramia Querol\, 10-14\, Paterna\, Valencia\, 46980\, España
CATEGORIES:Altres actes festius i fallers
END:VEVENT
BEGIN:VEVENT
DTSTART;TZID=Europe/Madrid:20260318T233000
DTEND;TZID=Europe/Madrid:20260318T233000
DTSTAMP:20260420T173148
CREATED:20240302T104627Z
LAST-MODIFIED:20260223T223321Z
UID:1661-1773876600-1773876600@falladosdemaig.com
SUMMARY:Gran "NIT DEL FOC"
DESCRIPTION:Gran «NIT DEL FOC» al Parc Central
URL:https://falladosdemaig.com/event/gran-nit-del-foc
LOCATION:Parc Central\, 39.50961549021725\, -0.44582190493077434\, PATERNA\, VALENCIA\, 46980\, España
CATEGORIES:Altres actes festius i fallers
END:VEVENT
BEGIN:VEVENT
DTSTART;TZID=Europe/Madrid:20260319T130000
DTEND;TZID=Europe/Madrid:20260319T170000
DTSTAMP:20260420T173148
CREATED:20240302T111056Z
LAST-MODIFIED:20260223T223925Z
UID:1671-1773925200-1773939600@falladosdemaig.com
SUMMARY:Missa en honor a Sant Josep
DESCRIPTION:Solemne Missa en honor a Sant Josep a l’església de Sant Pere. 13:00 h. \nEn fi nalitzar\, desfi lada de la comitiva pel \nC/ Mestre Canós\, Plaça Major\, C/ Major\, \nAv. Vicente Mortes\, C/ Tir de Colom\, C/ \nRei En Jaume.
URL:https://falladosdemaig.com/event/missa-en-honor-a-sant-josep
LOCATION:Iglesia de San Pedro\, Plaza del Pueblo\, 6\, Paterna\, Valencia\, 46980\, España
CATEGORIES:Altres actes festius i fallers
END:VEVENT
END:VCALENDAR