BEGIN:VCALENDAR
VERSION:2.0
PRODID:-//A.C. Falla Plaça Dos de Maig i Voltants de Paterna - ECPv6.15.20//NONSGML v1.0//EN
CALSCALE:GREGORIAN
METHOD:PUBLISH
X-ORIGINAL-URL:https://falladosdemaig.com
X-WR-CALDESC:Eventos para A.C. Falla Plaça Dos de Maig i Voltants de Paterna
REFRESH-INTERVAL;VALUE=DURATION:PT1H
X-Robots-Tag:noindex
X-PUBLISHED-TTL:PT1H
BEGIN:VTIMEZONE
TZID:Europe/Madrid
BEGIN:DAYLIGHT
TZOFFSETFROM:+0100
TZOFFSETTO:+0200
TZNAME:CEST
DTSTART:20250330T010000
END:DAYLIGHT
BEGIN:STANDARD
TZOFFSETFROM:+0200
TZOFFSETTO:+0100
TZNAME:CET
DTSTART:20251026T010000
END:STANDARD
BEGIN:DAYLIGHT
TZOFFSETFROM:+0100
TZOFFSETTO:+0200
TZNAME:CEST
DTSTART:20260329T010000
END:DAYLIGHT
BEGIN:STANDARD
TZOFFSETFROM:+0200
TZOFFSETTO:+0100
TZNAME:CET
DTSTART:20261025T010000
END:STANDARD
BEGIN:DAYLIGHT
TZOFFSETFROM:+0100
TZOFFSETTO:+0200
TZNAME:CEST
DTSTART:20270328T010000
END:DAYLIGHT
BEGIN:STANDARD
TZOFFSETFROM:+0200
TZOFFSETTO:+0100
TZNAME:CET
DTSTART:20271031T010000
END:STANDARD
END:VTIMEZONE
BEGIN:VEVENT
DTSTART;TZID=Europe/Madrid:20260105T180000
DTEND;TZID=Europe/Madrid:20260105T200000
DTSTAMP:20260420T210800
CREATED:20251214T192751Z
LAST-MODIFIED:20251214T200119Z
UID:2804-1767636000-1767643200@falladosdemaig.com
SUMMARY:Cavalcada de Reis
DESCRIPTION: Cavalcada de reis amb la participació de les falles de Paterna 
URL:https://falladosdemaig.com/event/cavalcada-de-reis
LOCATION:Valencia
CATEGORIES:Altres actes festius i fallers
END:VEVENT
BEGIN:VEVENT
DTSTART;TZID=Europe/Madrid:20260122T200000
DTEND;TZID=Europe/Madrid:20260122T200000
DTSTAMP:20260420T210800
CREATED:20251214T194024Z
LAST-MODIFIED:20260121T115003Z
UID:2806-1769112000-1769112000@falladosdemaig.com
SUMMARY:Presentació esbossos
DESCRIPTION:Presentació esbossos i cartell de les \nFalles de Paterna 2026\, al Gran Teatre \nAntonio Ferrandis. 20:00 h.
URL:https://falladosdemaig.com/event/presentacio-esbossos
LOCATION:Gran Teatre Antonio Ferrandis\, Plaça de Exèrcit Espanyol\, 4\, Paterna\, Valencia\, 46980\, España
CATEGORIES:Altres actes festius i fallers
END:VEVENT
END:VCALENDAR