BEGIN:VCALENDAR
VERSION:2.0
PRODID:-//A.C. Falla Plaça Dos de Maig i Voltants de Paterna - ECPv6.15.20//NONSGML v1.0//EN
CALSCALE:GREGORIAN
METHOD:PUBLISH
X-WR-CALNAME:A.C. Falla Plaça Dos de Maig i Voltants de Paterna
X-ORIGINAL-URL:https://falladosdemaig.com
X-WR-CALDESC:Eventos para A.C. Falla Plaça Dos de Maig i Voltants de Paterna
REFRESH-INTERVAL;VALUE=DURATION:PT1H
X-Robots-Tag:noindex
X-PUBLISHED-TTL:PT1H
BEGIN:VTIMEZONE
TZID:Europe/Madrid
BEGIN:DAYLIGHT
TZOFFSETFROM:+0100
TZOFFSETTO:+0200
TZNAME:CEST
DTSTART:20240331T010000
END:DAYLIGHT
BEGIN:STANDARD
TZOFFSETFROM:+0200
TZOFFSETTO:+0100
TZNAME:CET
DTSTART:20241027T010000
END:STANDARD
BEGIN:DAYLIGHT
TZOFFSETFROM:+0100
TZOFFSETTO:+0200
TZNAME:CEST
DTSTART:20250330T010000
END:DAYLIGHT
BEGIN:STANDARD
TZOFFSETFROM:+0200
TZOFFSETTO:+0100
TZNAME:CET
DTSTART:20251026T010000
END:STANDARD
BEGIN:DAYLIGHT
TZOFFSETFROM:+0100
TZOFFSETTO:+0200
TZNAME:CEST
DTSTART:20260329T010000
END:DAYLIGHT
BEGIN:STANDARD
TZOFFSETFROM:+0200
TZOFFSETTO:+0100
TZNAME:CET
DTSTART:20261025T010000
END:STANDARD
END:VTIMEZONE
BEGIN:VEVENT
DTSTART;TZID=Europe/Madrid:20250712T193000
DTEND;TZID=Europe/Madrid:20250712T230000
DTSTAMP:20260422T194829
CREATED:20240622T105003Z
LAST-MODIFIED:20250630T090551Z
UID:2304-1752348600-1752361200@falladosdemaig.com
SUMMARY:Demaná de la Fallera Major 2026
DESCRIPTION:Acte de Demaná de la Fallera Major per a les falles de 2026
URL:https://falladosdemaig.com/event/demana-de-la-fallera-major-2025
LOCATION:Casal de la Falla.\, Carrer Mariana Colas\, 28\, Paterna\, Valencia\, 46980\, España
CATEGORIES:Actes propis de la falla
END:VEVENT
BEGIN:VEVENT
DTSTART;TZID=Europe/Madrid:20250719T190000
DTEND;TZID=Europe/Madrid:20250719T220000
DTSTAMP:20260422T194829
CREATED:20240622T105140Z
LAST-MODIFIED:20250630T092325Z
UID:2308-1752951600-1752962400@falladosdemaig.com
SUMMARY:Demaná de la Fallera Major Infantil 2026
DESCRIPTION:Acte de Demaná de la Fallera Major Infantil 2026
URL:https://falladosdemaig.com/event/demana-de-la-fallera-major-infantil-2025
LOCATION:Casal de la Falla.\, Carrer Mariana Colas\, 28\, Paterna\, Valencia\, 46980\, España
CATEGORIES:Actes propis de la falla
END:VEVENT
BEGIN:VEVENT
DTSTART;VALUE=DATE:20250726
DTEND;VALUE=DATE:20250727
DTSTAMP:20260422T194829
CREATED:20240704T204348Z
LAST-MODIFIED:20250523T111753Z
UID:2316-1753488000-1753574399@falladosdemaig.com
SUMMARY:Festa d'Estiu
DESCRIPTION:  \n Fiesta del Verano.\nDesde las 11h los infantiles disfrutarán de juegos de agua y otras sorpresas\, comida para ellos en el casal y al terminar\, tendrán una sesión de cine de verano.\nPor la mañana también ofreceremos un quinto y tapa para todos aquellos que quieran acudir. \nY a partir de las 20h\, llega el turno para la comisión mayor con una pre-party amenizada con música y servicio de barra\, la cena con menús de burger o Hot Dog (previa reserva) y para rematar fiesta con DJ en nuestro casal.\nUna forma inmejorable de «cerrar por vacaciones» hasta septiembre!\nOs esperamos!😊 \n 
URL:https://falladosdemaig.com/event/festa-destiu
LOCATION:Casal de la Falla.\, Carrer Mariana Colas\, 28\, Paterna\, Valencia\, 46980\, España
CATEGORIES:Actes propis de la falla
ORGANIZER;CN="Falla Pla%C3%A7a Dos de Maig":MAILTO:relacionspubliques@falladosdemaig.com
END:VEVENT
END:VCALENDAR